BEGIN:VCALENDAR
VERSION:2.0
PRODID:http://www.engagement-global.de/ Calendar
CALSCALE:GREGORIAN
BEGIN:VTIMEZONE
TZID:Europe/Berlin
BEGIN:DAYLIGHT
TZOFFSETFROM:+0100
RRULE:FREQ=YEARLY;BYMONTH=3;BYDAY=-1SU
DTSTART:19810329T020000
TZNAME:MESZ
TZOFFSETTO:+0200
END:DAYLIGHT
BEGIN:STANDARD
TZOFFSETFROM:+0200
RRULE:FREQ=YEARLY;BYMONTH=10;BYDAY=-1SU
DTSTART:19961027T030000
TZNAME:MEZ
TZOFFSETTO:+0100
END:STANDARD
END:VTIMEZONE
BEGIN:VEVENT
CREATED:20220427T034242Z
UID:4f87658ef0de194413056248a00ce009@engagement-global.de
DTSTAMP:20220427T034242Z
DTSTART;TZID=Europe/Berlin:20190125T180000
DTEND;TZID=Europe/Berlin:20190127T153000
SUMMARY:Der Weg zum Auslandsprojekt – Richtlinien, Antragstellung und Projektabwicklung bei bengo
LOCATION:53424 Remagen
END:VEVENT
END:VCALENDAR