BEGIN:VCALENDAR
VERSION:2.0
PRODID:http://www.engagement-global.de/ Calendar
CALSCALE:GREGORIAN
BEGIN:VTIMEZONE
TZID:Europe/Berlin
BEGIN:DAYLIGHT
TZOFFSETFROM:+0100
RRULE:FREQ=YEARLY;BYMONTH=3;BYDAY=-1SU
DTSTART:19810329T020000
TZNAME:MESZ
TZOFFSETTO:+0200
END:DAYLIGHT
BEGIN:STANDARD
TZOFFSETFROM:+0200
RRULE:FREQ=YEARLY;BYMONTH=10;BYDAY=-1SU
DTSTART:19961027T030000
TZNAME:MEZ
TZOFFSETTO:+0100
END:STANDARD
END:VTIMEZONE
BEGIN:VEVENT
CREATED:20220427T034438Z
UID:3e313b9badf12632cdae5452d20e1af6@engagement-global.de
DTSTAMP:20220427T034438Z
DTSTART;TZID=Europe/Berlin:20190220T180000
DTEND;TZID=Europe/Berlin:20190222T153000
SUMMARY:Projektabwicklung und Nachweiserstellung für BMZ-geförderte Auslandsprojekte Mainz
LOCATION:55131 Mainz
END:VEVENT
END:VCALENDAR