BEGIN:VCALENDAR
VERSION:2.0
PRODID:http://www.engagement-global.de/ Calendar
CALSCALE:GREGORIAN
BEGIN:VTIMEZONE
TZID:Europe/Berlin
BEGIN:DAYLIGHT
TZOFFSETFROM:+0100
RRULE:FREQ=YEARLY;BYMONTH=3;BYDAY=-1SU
DTSTART:19810329T020000
TZNAME:MESZ
TZOFFSETTO:+0200
END:DAYLIGHT
BEGIN:STANDARD
TZOFFSETFROM:+0200
RRULE:FREQ=YEARLY;BYMONTH=10;BYDAY=-1SU
DTSTART:19961027T030000
TZNAME:MEZ
TZOFFSETTO:+0100
END:STANDARD
END:VTIMEZONE
BEGIN:VEVENT
CREATED:20220427T034307Z
UID:980ecd059122ce2e50136bda65c25e07@engagement-global.de
DTSTAMP:20220427T034307Z
DTSTART;VALUE=DATE:20190613
DTEND;VALUE=DATE:20190616
SUMMARY:Projektabwicklung und Nachweiserstellung für BMZ-geförderte Auslandsprojekte Berlin
LOCATION:Prenzlauer Allee 169, 10409 Berlin
END:VEVENT
END:VCALENDAR