BEGIN:VCALENDAR
VERSION:2.0
PRODID:http://www.engagement-global.de/ Calendar
CALSCALE:GREGORIAN
BEGIN:VTIMEZONE
TZID:Europe/Berlin
BEGIN:DAYLIGHT
TZOFFSETFROM:+0100
RRULE:FREQ=YEARLY;BYMONTH=3;BYDAY=-1SU
DTSTART:19810329T020000
TZNAME:MESZ
TZOFFSETTO:+0200
END:DAYLIGHT
BEGIN:STANDARD
TZOFFSETFROM:+0200
RRULE:FREQ=YEARLY;BYMONTH=10;BYDAY=-1SU
DTSTART:19961027T030000
TZNAME:MEZ
TZOFFSETTO:+0100
END:STANDARD
END:VTIMEZONE
BEGIN:VEVENT
CREATED:20220427T034223Z
UID:c26820b8a4c1b3c2aa868d6d57e14a79@engagement-global.de
DTSTAMP:20220427T034223Z
DTSTART;VALUE=DATE:20190627
DTEND;VALUE=DATE:20190630
SUMMARY:Der Weg zum Auslandsprojekt – Richtlinien, Antragstellung und Projektabwicklung bei bengo Kassel
LOCATION:Friedrich-Ebert-Allee 1, 34225 Kassel
END:VEVENT
END:VCALENDAR