BEGIN:VCALENDAR
VERSION:2.0
PRODID:http://www.engagement-global.de/ Calendar
CALSCALE:GREGORIAN
BEGIN:VTIMEZONE
TZID:Europe/Berlin
BEGIN:DAYLIGHT
TZOFFSETFROM:+0100
RRULE:FREQ=YEARLY;BYMONTH=3;BYDAY=-1SU
DTSTART:19810329T020000
TZNAME:MESZ
TZOFFSETTO:+0200
END:DAYLIGHT
BEGIN:STANDARD
TZOFFSETFROM:+0200
RRULE:FREQ=YEARLY;BYMONTH=10;BYDAY=-1SU
DTSTART:19961027T030000
TZNAME:MEZ
TZOFFSETTO:+0100
END:STANDARD
END:VTIMEZONE
BEGIN:VEVENT
CREATED:20220427T034346Z
UID:95d309f0b035d97f69902e7972c2b2e6@engagement-global.de
DTSTAMP:20220427T034346Z
DTSTART;TZID=Europe/Berlin:20190508T100000
DTEND;TZID=Europe/Berlin:20190508T170000
SUMMARY:Globale Programme für globale Herausforderungen: Anforderungen und Möglichkeiten einer BMZ-Förderung Berlin
LOCATION:Jugendgästehaus Hauptbahnhof, Tagungsraum Wien, Lehrter Straße 68, 10557 Berlin, Berlin
END:VEVENT
END:VCALENDAR