BEGIN:VCALENDAR
VERSION:2.0
PRODID:http://www.engagement-global.de/ Calendar
CALSCALE:GREGORIAN
BEGIN:VTIMEZONE
TZID:Europe/Berlin
BEGIN:DAYLIGHT
TZOFFSETFROM:+0100
RRULE:FREQ=YEARLY;BYMONTH=3;BYDAY=-1SU
DTSTART:19810329T020000
TZNAME:MESZ
TZOFFSETTO:+0200
END:DAYLIGHT
BEGIN:STANDARD
TZOFFSETFROM:+0200
RRULE:FREQ=YEARLY;BYMONTH=10;BYDAY=-1SU
DTSTART:19961027T030000
TZNAME:MEZ
TZOFFSETTO:+0100
END:STANDARD
END:VTIMEZONE
BEGIN:VEVENT
CREATED:20220427T034244Z
UID:076023edc9187cf1ac1f1163470e479a@engagement-global.de
DTSTAMP:20220427T034244Z
DTSTART;TZID=Europe/Berlin:20190521T100000
DTEND;TZID=Europe/Berlin:20190521T170000
SUMMARY:Globale Programme für globale Herausforderungen: Anforderungen und Möglichkeiten einer BMZ-Förderung Bonn
LOCATION:Engagement Global, Baunscheidtstraße 17, 53113 Bonn, 53113 Bonn
END:VEVENT
END:VCALENDAR