BEGIN:VCALENDAR
VERSION:2.0
PRODID:http://www.engagement-global.de/ Calendar
CALSCALE:GREGORIAN
BEGIN:VTIMEZONE
TZID:Europe/Berlin
BEGIN:DAYLIGHT
TZOFFSETFROM:+0100
RRULE:FREQ=YEARLY;BYMONTH=3;BYDAY=-1SU
DTSTART:19810329T020000
TZNAME:MESZ
TZOFFSETTO:+0200
END:DAYLIGHT
BEGIN:STANDARD
TZOFFSETFROM:+0200
RRULE:FREQ=YEARLY;BYMONTH=10;BYDAY=-1SU
DTSTART:19961027T030000
TZNAME:MEZ
TZOFFSETTO:+0100
END:STANDARD
END:VTIMEZONE
BEGIN:VEVENT
CREATED:20220427T034250Z
UID:dea9ddb25cbf2352cf4dec30222a02a5@engagement-global.de
DTSTAMP:20220427T034250Z
DTSTART;VALUE=DATE:20190905
DTEND;VALUE=DATE:20190908
SUMMARY:Der Weg zum Auslandsprojekt – Richtlinien, Antragstellung und Projektabwicklung bei bengo Augsburg
LOCATION:86150 Augsburg
END:VEVENT
END:VCALENDAR