BEGIN:VCALENDAR
VERSION:2.0
PRODID:http://www.engagement-global.de/ Calendar
CALSCALE:GREGORIAN
BEGIN:VTIMEZONE
TZID:Europe/Berlin
BEGIN:DAYLIGHT
TZOFFSETFROM:+0100
RRULE:FREQ=YEARLY;BYMONTH=3;BYDAY=-1SU
DTSTART:19810329T020000
TZNAME:MESZ
TZOFFSETTO:+0200
END:DAYLIGHT
BEGIN:STANDARD
TZOFFSETFROM:+0200
RRULE:FREQ=YEARLY;BYMONTH=10;BYDAY=-1SU
DTSTART:19961027T030000
TZNAME:MEZ
TZOFFSETTO:+0100
END:STANDARD
END:VTIMEZONE
BEGIN:VEVENT
CREATED:20220427T034223Z
UID:f5b1b89d98b7286673128a5fb112cb9a@engagement-global.de
DTSTAMP:20220427T034223Z
DTSTART;VALUE=DATE:20200505
SUMMARY:[Abgesagt] Globale Programme für globale Herausforderungen - Anforderungen und Möglichkeiten einer BMZ-Förderung
LOCATION:Baunscheidtstraße 17, Bonn
END:VEVENT
END:VCALENDAR