BEGIN:VCALENDAR
VERSION:2.0
PRODID:http://www.engagement-global.de/ Calendar
CALSCALE:GREGORIAN
BEGIN:VTIMEZONE
TZID:Europe/Berlin
BEGIN:DAYLIGHT
TZOFFSETFROM:+0100
RRULE:FREQ=YEARLY;BYMONTH=3;BYDAY=-1SU
DTSTART:19810329T020000
TZNAME:MESZ
TZOFFSETTO:+0200
END:DAYLIGHT
BEGIN:STANDARD
TZOFFSETFROM:+0200
RRULE:FREQ=YEARLY;BYMONTH=10;BYDAY=-1SU
DTSTART:19961027T030000
TZNAME:MEZ
TZOFFSETTO:+0100
END:STANDARD
END:VTIMEZONE
BEGIN:VEVENT
CREATED:20220427T034537Z
UID:4b29fa4efe4fb7bc667c7b301b74d52d@engagement-global.de
DTSTAMP:20220427T034537Z
DTSTART;VALUE=DATE:20200904
DTEND;VALUE=DATE:20200907
SUMMARY:[Abgesagt] Projektabwicklung und Nachweiserstellung für BMZ-geförderte Auslandsprojekte Königswinter
LOCATION:Königswinter
END:VEVENT
END:VCALENDAR