BEGIN:VCALENDAR
VERSION:2.0
PRODID:http://www.engagement-global.de/ Calendar
CALSCALE:GREGORIAN
BEGIN:VTIMEZONE
TZID:Europe/Berlin
BEGIN:DAYLIGHT
TZOFFSETFROM:+0100
RRULE:FREQ=YEARLY;BYMONTH=3;BYDAY=-1SU
DTSTART:19810329T020000
TZNAME:MESZ
TZOFFSETTO:+0200
END:DAYLIGHT
BEGIN:STANDARD
TZOFFSETFROM:+0200
RRULE:FREQ=YEARLY;BYMONTH=10;BYDAY=-1SU
DTSTART:19961027T030000
TZNAME:MEZ
TZOFFSETTO:+0100
END:STANDARD
END:VTIMEZONE
BEGIN:VEVENT
CREATED:20220427T034354Z
UID:2217ad1dd50c1017d3df6b44b7c45508@engagement-global.de
DTSTAMP:20220427T034354Z
DTSTART;VALUE=DATE:20201106
DTEND;VALUE=DATE:20201109
SUMMARY:[Abgesagt] Der Weg zum Auslandsprojekt – Richtlinien, Antragstellung und Projektabwicklung Hamburg
LOCATION:Hamburg
END:VEVENT
END:VCALENDAR