BEGIN:VCALENDAR
VERSION:2.0
PRODID:http://www.engagement-global.de/ Calendar
CALSCALE:GREGORIAN
BEGIN:VTIMEZONE
TZID:Europe/Berlin
BEGIN:DAYLIGHT
TZOFFSETFROM:+0100
RRULE:FREQ=YEARLY;BYMONTH=3;BYDAY=-1SU
DTSTART:19810329T020000
TZNAME:MESZ
TZOFFSETTO:+0200
END:DAYLIGHT
BEGIN:STANDARD
TZOFFSETFROM:+0200
RRULE:FREQ=YEARLY;BYMONTH=10;BYDAY=-1SU
DTSTART:19961027T030000
TZNAME:MEZ
TZOFFSETTO:+0100
END:STANDARD
END:VTIMEZONE
BEGIN:VEVENT
CREATED:20220427T034502Z
UID:d3d80b656929a5bc0fa34381bf42fbdd@engagement-global.de
DTSTAMP:20220427T034502Z
DTSTART;VALUE=DATE:20200616
SUMMARY:Globale Programme für globale Herausforderungen - Anforderungen und Möglichkeiten einer BMZ-Förderung
LOCATION:Videokonferenz
END:VEVENT
END:VCALENDAR